BEGIN:VCALENDAR
VERSION:2.0
PRODID:-//Dace foundation - ECPv6.15.20//NONSGML v1.0//EN
CALSCALE:GREGORIAN
METHOD:PUBLISH
X-WR-CALNAME:Dace foundation
X-ORIGINAL-URL:https://dace-foundation.org
X-WR-CALDESC:Events for Dace foundation
REFRESH-INTERVAL;VALUE=DURATION:PT1H
X-Robots-Tag:noindex
X-PUBLISHED-TTL:PT1H
BEGIN:VTIMEZONE
TZID:America/New_York
BEGIN:DAYLIGHT
TZOFFSETFROM:-0500
TZOFFSETTO:-0400
TZNAME:EDT
DTSTART:20140309T070000
END:DAYLIGHT
BEGIN:STANDARD
TZOFFSETFROM:-0400
TZOFFSETTO:-0500
TZNAME:EST
DTSTART:20141102T060000
END:STANDARD
BEGIN:DAYLIGHT
TZOFFSETFROM:-0500
TZOFFSETTO:-0400
TZNAME:EDT
DTSTART:20150308T070000
END:DAYLIGHT
BEGIN:STANDARD
TZOFFSETFROM:-0400
TZOFFSETTO:-0500
TZNAME:EST
DTSTART:20151101T060000
END:STANDARD
BEGIN:DAYLIGHT
TZOFFSETFROM:-0500
TZOFFSETTO:-0400
TZNAME:EDT
DTSTART:20160313T070000
END:DAYLIGHT
BEGIN:STANDARD
TZOFFSETFROM:-0400
TZOFFSETTO:-0500
TZNAME:EST
DTSTART:20161106T060000
END:STANDARD
END:VTIMEZONE
BEGIN:VEVENT
DTSTART;VALUE=DATE:20150626
DTEND;VALUE=DATE:20150628
DTSTAMP:20260423T162913
CREATED:20150506T132946Z
LAST-MODIFIED:20150506T132946Z
UID:598-1435276800-1435449599@dace-foundation.org
SUMMARY:Late Night Party
DESCRIPTION:Well\, I got better. Ah\, now we see the violence inherent in the system! The swallow may fly south with the sun\, and the house martin or the plover may seek warmer climes in winter\, yet these are not strangers to our land. It’s only a model. It’s only a model.
URL:https://dace-foundation.org/event/late-night-party/
LOCATION:The Beanery\, 500 SW 2nd St\, Corvallis\, OR\, 97330\, United States
CATEGORIES:Nightlife,Party
ORGANIZER;CN="Famous Amos":MAILTO:cookies@aol.com
END:VEVENT
BEGIN:VEVENT
DTSTART;VALUE=DATE:20150611
DTEND;VALUE=DATE:20150612
DTSTAMP:20260423T162913
CREATED:20150506T132946Z
LAST-MODIFIED:20150506T132946Z
UID:597-1433980800-1434067199@dace-foundation.org
SUMMARY:Rock Concert
DESCRIPTION:Hey\, Luke! May the Force be with you. Look\, I ain’t in this for your revolution\, and I’m not in it for you\, Princess. I expect to be well paid. I’m in it for the money. Ye-ha! What good is a reward if you ain’t around to use it? Besides\, attacking that battle station ain’t my idea of courage. It’s more like…suicide. Hey\, Luke! May the Force be with you. But with the blast shield down\, I can’t even see! How am I supposed to fight?
URL:https://dace-foundation.org/event/rock-concert/
LOCATION:Art Institute of Chicago\, 111 S Michigan Ave www.artic.edu/\, Chicago\, IL\, 60603\, United States
CATEGORIES:Nightlife
ORGANIZER;CN="Barney Stinson":MAILTO:barney@legendary.com
END:VEVENT
END:VCALENDAR